BEGIN:VCALENDAR
VERSION:2.0
PRODID:-//Owl&#039;s Nest Resort - ECPv6.15.18//NONSGML v1.0//EN
CALSCALE:GREGORIAN
METHOD:PUBLISH
X-WR-CALNAME:Owl&#039;s Nest Resort
X-ORIGINAL-URL:https://www.owlsnestresort.com
X-WR-CALDESC:Events for Owl&#039;s Nest Resort
REFRESH-INTERVAL;VALUE=DURATION:PT1H
X-Robots-Tag:noindex
X-PUBLISHED-TTL:PT1H
BEGIN:VTIMEZONE
TZID:America/New_York
BEGIN:DAYLIGHT
TZOFFSETFROM:-0500
TZOFFSETTO:-0400
TZNAME:EDT
DTSTART:20250309T070000
END:DAYLIGHT
BEGIN:STANDARD
TZOFFSETFROM:-0400
TZOFFSETTO:-0500
TZNAME:EST
DTSTART:20251102T060000
END:STANDARD
BEGIN:DAYLIGHT
TZOFFSETFROM:-0500
TZOFFSETTO:-0400
TZNAME:EDT
DTSTART:20260308T070000
END:DAYLIGHT
BEGIN:STANDARD
TZOFFSETFROM:-0400
TZOFFSETTO:-0500
TZNAME:EST
DTSTART:20261101T060000
END:STANDARD
BEGIN:DAYLIGHT
TZOFFSETFROM:-0500
TZOFFSETTO:-0400
TZNAME:EDT
DTSTART:20270314T070000
END:DAYLIGHT
BEGIN:STANDARD
TZOFFSETFROM:-0400
TZOFFSETTO:-0500
TZNAME:EST
DTSTART:20271107T060000
END:STANDARD
END:VTIMEZONE
BEGIN:VEVENT
DTSTART;TZID=America/New_York:20260609T153000
DTEND;TZID=America/New_York:20260609T173000
DTSTAMP:20260421T161806
CREATED:20260318T175036Z
LAST-MODIFIED:20260318T175036Z
UID:10003331-1781019000-1781026200@www.owlsnestresort.com
SUMMARY:2026 Tuesday Men's League
DESCRIPTION:Tuesday Men’s Golf League\nJoin us for the 2026 Tuesday Men’s League at Owl’s Nest Resort\, a weekly golf league designed for players who enjoy competitive play and a welcoming community atmosphere in the White Mountains of New Hampshire. \nThis league features a 9-hole\, two-man best ball format using an in-house handicap system. Teams compete each week for points\, alternating front and back nine matches throughout the season. Points are awarded for holes won or tied\, along with a weekly show-up point for participating players. \nEach week also includes closest-to-the-pin contests on the par 3s\, offering additional opportunities for players to win prizes during league play. \nThe season runs every Tuesday from May 12 through August 25\, beginning with a practice and handicap-setting week before moving into regular season competition and concluding with playoffs. \nPlayers are responsible for coordinating their tee times with the SportsNest and communicating with their partners and opponents throughout the season. A substitute list will be available for players who are unable to attend a scheduled match. \nTo participate\, please complete the league registration form and return it to the Owl’s Nest Resort SportsNest. Download Registration Form (PDF) \nFor additional information or questions\, contact Assistant Golf Professional Jack Beaulieu at (603) 726-3076 ext. 224\, or call the SportsNest at (603) 726-3076 ext. 211.
URL:https://www.owlsnestresort.com/event/2026-tuesday-mens-golf-league/2026-06-09/
LOCATION:Owl’s Nest Resort\, 40 Clubhouse Ln\, Thornton\, NH\, 03285\, United States
CATEGORIES:Golf Events,Golf Leagues
ATTACH;FMTTYPE=image/png:https://www.owlsnestresort.com/wp-content/uploads/2025/04/Golf-Lessons-Grid-3.png
END:VEVENT
END:VCALENDAR