BEGIN:VCALENDAR
VERSION:2.0
PRODID:-//Owl&#039;s Nest Resort - ECPv6.15.18//NONSGML v1.0//EN
CALSCALE:GREGORIAN
METHOD:PUBLISH
X-WR-CALNAME:Owl&#039;s Nest Resort
X-ORIGINAL-URL:https://www.owlsnestresort.com
X-WR-CALDESC:Events for Owl&#039;s Nest Resort
REFRESH-INTERVAL;VALUE=DURATION:PT1H
X-Robots-Tag:noindex
X-PUBLISHED-TTL:PT1H
BEGIN:VTIMEZONE
TZID:America/Los_Angeles
BEGIN:DAYLIGHT
TZOFFSETFROM:-0800
TZOFFSETTO:-0700
TZNAME:PDT
DTSTART:20250309T100000
END:DAYLIGHT
BEGIN:STANDARD
TZOFFSETFROM:-0700
TZOFFSETTO:-0800
TZNAME:PST
DTSTART:20251102T090000
END:STANDARD
BEGIN:DAYLIGHT
TZOFFSETFROM:-0800
TZOFFSETTO:-0700
TZNAME:PDT
DTSTART:20260308T100000
END:DAYLIGHT
BEGIN:STANDARD
TZOFFSETFROM:-0700
TZOFFSETTO:-0800
TZNAME:PST
DTSTART:20261101T090000
END:STANDARD
BEGIN:DAYLIGHT
TZOFFSETFROM:-0800
TZOFFSETTO:-0700
TZNAME:PDT
DTSTART:20270314T100000
END:DAYLIGHT
BEGIN:STANDARD
TZOFFSETFROM:-0700
TZOFFSETTO:-0800
TZNAME:PST
DTSTART:20271107T090000
END:STANDARD
END:VTIMEZONE
BEGIN:VEVENT
DTSTART;TZID=America/Los_Angeles:20260214T170000
DTEND;TZID=America/Los_Angeles:20260214T210000
DTSTAMP:20260421T144625
CREATED:20260116T031015Z
LAST-MODIFIED:20260316T174209Z
UID:29631-1771088400-1771102800@www.owlsnestresort.com
SUMMARY:Valentine's Dinner
DESCRIPTION:Join us for Dinner at Panorama Six82 with your special someone! \nLive Music and White Mountain views!
URL:https://www.owlsnestresort.com/event/valentines-dinner/
LOCATION:Panorama Six82\, 40 Clubhouse Ln\, Thornton\, NH\, 03285\, United States
CATEGORIES:Holiday Events,Live Music,Owl's Nest Resort Events
ATTACH;FMTTYPE=image/png:https://www.owlsnestresort.com/wp-content/uploads/2026/01/Panorama_Six82_Logo.png
END:VEVENT
END:VCALENDAR